BEGIN:VCALENDAR
BEGIN:VEVENT
CLASS:PUBLIC
CREATED:20260425T183918
DESCRIPTION:First camp
DTEND:20150503T114500
DTSTAMP:20260425T183918
DTSTART:20150429T060000
LAST-MODIFIED:20091109T101015Z
LOCATION:Word of Life, 10114, Cove Row Ave, Vegas, 89144
SUMMARY;LANGUAGE=en-us:Camp
BEGIN:VALARM
TRIGGER:-PT1440M
ACTION:DISPLAY
DESCRIPTION:Reminder
END:VALARM
END:VEVENT
END:VCALENDAR
